Workbook
Name _VL1: [1]Formules!$N$2

Sheet JT2025
B2: GENRE | C2: JAAR van publicatie | D2: TITEL van de publicatie | E2: TAAL van de publicatie | F2: Is uw tekst een oorspronkelijke VERSIE, een vertaling of een bewerking? | G2: Bent u de OORS. AUTEUR, de VERTALER of de BEWERKER van de tekst? | H2: Als u de oors. auteur van de tekst bent, bent u er dan ook de VERTALER of de BEWERKER van? | I2: Gelieve het AANTAL eventuele OORS. (CO)AUTEURS op te geven | J2: Gelieve het AANTAL eventuele (CO)VERTALERS op te geven | K2: Gelieve het AANTAL eventuele (CO)BEWERKERS op te geven | L2: Is de publicatie een BOEK ? | M2: Als de publicatie een boek is, noteer hier het ISBN-Nummer | N2: Is de publicatie een HERUITGAVE? | O2: AANTAL BLADZIJDEN van de genoemde publicatie
A3: PAPIER | B3: JT | C3: 2025
A4: IDENTIFICATIEZONE | B4: JT | C4: 2025
A5: NAAM van de (overleden) auteur | B5: JT | C5: 2025
A6: Tik hier uw naam | B6: JT | C6: 2025
A7: SABAMNUMMER (overleden) Auteur | B7: JT | C7: 2025
A8: Tik hier uw nummer | B8: JT | C8: 2025
A9: Naam Erfgenaam | B9: JT | C9: 2025
A10: Tik hier uw naam | B10: JT | C10: 2025
A11: SabamNummer Erfgenaam | B11: JT | C11: 2025
A12: Tik hier uw nummer | B12: JT | C12: 2025
B13: JT | C13: 2025
B14: JT | C14: 2025
B15: JT | C15: 2025
B16: JT | C16: 2025
B17: JT | C17: 2025
B18: JT | C18: 2025
B19: JT | C19: 2025
B20: JT | C20: 2025
B21: JT | C21: 2025
B22: JT | C22: 2025
B23: JT | C23: 2025
B24: JT | C24: 2025
... B52: JT | C52: 2025
E56: Frans | F56: Oorspronkelijke versie | G56: Oorspronkelijke auteur | H56: Vertaler | Q56: JA
E57: Nederlands | F57: Vertaling | G57: Vertaler | H57: Bewerker | M57: JA | N57: JA | Q57: NEE
E58: Engels | F58: Bewerking | G58: Bewerker | M58: NEE | N58: NEE
E59: Andere taal

Sheet DATA
A1: DIGITAAL PAPIER | B1: SABAMNR AUTEUR | C1: JAAR | D1: CATEGORIE | E1: TITEL | F1: TAAL | G1: VERSIE Oorspronkelijk Vertaling Bewerking | H1: OORS Auteur Vertaler Bewerker | I1: Als u OORS auteur bent, bent u ook de VERTALER of de BEWERKER | J1: AANTAL CO-AUTEURS | K1: AANTAL VERT | L1: AANTAL BEW | M1: BOEK | N1: HERUITGAVE | O1: OPLAGE | P1: # PAGES | Q1: ISBN | S1: NAAM AUTEUR | T1: NAAM ERFGENAAM | U1: NUMMER ERFGENAAM
A2: ='JT2025'!$A$3 -> PAPIER | B2: ='JT2025'!$A$8 -> Tik hier uw nummer | C2: ='JT2025'!$C$3 -> 2025 | D2: ='JT2025'!$B$3 -> JT | E2: ='JT2025'!D3 -> 0 | F2: ='JT2025'!$E3 -> 0 | G2: ='JT2025'!F3 -> 0 | H2: ='JT2025'!G3 -> 0 | I2: ='JT2025'!H3 -> 0 | J2: ='JT2025'!I3 -> 0 | K2: ='JT2025'!J3 -> 0 | L2: ='JT2025'!K3 -> 0 | M2: ='JT2025'!L3 -> 0 | N2: ='JT2025'!N3 -> 0 | O2: 1 | P2: ='JT2025'!O3 -> 0 | Q2: ='JT2025'!M3 -> 0 | S2: ='JT2025'!$A$6 -> Tik hier uw naam | T2: ='JT2025'!$A$10 -> Tik hier uw naam | U2: ='JT2025'!$A$12 -> Tik hier uw nummer
A3: ='JT2025'!$A$3 -> PAPIER | B3: ='JT2025'!$A$8 -> Tik hier uw nummer | C3: ='JT2025'!$C$3 -> 2025 | D3: ='JT2025'!$B$3 -> JT | E3: ='JT2025'!D4 -> 0 | F3: ='JT2025'!$E4 -> 0 | G3: ='JT2025'!F4 -> 0 | H3: ='JT2025'!G4 -> 0 | I3: ='JT2025'!H4 -> 0 | J3: ='JT2025'!I4 -> 0 | K3: ='JT2025'!J4 -> 0 | L3: ='JT2025'!K4 -> 0 | M3: ='JT2025'!L4 -> 0 | N3: ='JT2025'!N4 -> 0 | O3: 1 | P3: ='JT2025'!O4 -> 0 | Q3: ='JT2025'!M4 -> 0 | S3: ='JT2025'!$A$6 -> Tik hier uw naam | T3: ='JT2025'!$A$10 -> Tik hier uw naam | U3: ='JT2025'!$A$12 -> Tik hier uw nummer
A4: ='JT2025'!$A$3 -> PAPIER | B4: ='JT2025'!$A$8 -> Tik hier uw nummer | C4: ='JT2025'!$C$3 -> 2025 | D4: ='JT2025'!$B$3 -> JT | E4: ='JT2025'!D5 -> 0 | F4: ='JT2025'!$E5 -> 0 | G4: ='JT2025'!F5 -> 0 | H4: ='JT2025'!G5 -> 0 | I4: ='JT2025'!H5 -> 0 | J4: ='JT2025'!I5 -> 0 | K4: ='JT2025'!J5 -> 0 | L4: ='JT2025'!K5 -> 0 | M4: ='JT2025'!L5 -> 0 | N4: ='JT2025'!N5 -> 0 | O4: 1 | P4: ='JT2025'!O5 -> 0 | Q4: ='JT2025'!M5 -> 0 | S4: ='JT2025'!$A$6 -> Tik hier uw naam | T4: ='JT2025'!$A$10 -> Tik hier uw naam | U4: ='JT2025'!$A$12 -> Tik hier uw nummer
A5: ='JT2025'!$A$3 -> PAPIER | B5: ='JT2025'!$A$8 -> Tik hier uw nummer | C5: ='JT2025'!$C$3 -> 2025 | D5: ='JT2025'!$B$3 -> JT | E5: ='JT2025'!D6 -> 0 | F5: ='JT2025'!$E6 -> 0 | G5: ='JT2025'!F6 -> 0 | H5: ='JT2025'!G6 -> 0 | I5: ='JT2025'!H6 -> 0 | J5: ='JT2025'!I6 -> 0 | K5: ='JT2025'!J6 -> 0 | L5: ='JT2025'!K6 -> 0 | M5: ='JT2025'!L6 -> 0 | N5: ='JT2025'!N6 -> 0 | O5: 1 | P5: ='JT2025'!O6 -> 0 | Q5: ='JT2025'!M6 -> 0 | S5: ='JT2025'!$A$6 -> Tik hier uw naam | T5: ='JT2025'!$A$10 -> Tik hier uw naam | U5: ='JT2025'!$A$12 -> Tik hier uw nummer
A6: ='JT2025'!$A$3 -> PAPIER | B6: ='JT2025'!$A$8 -> Tik hier uw nummer | C6: ='JT2025'!$C$3 -> 2025 | D6: ='JT2025'!$B$3 -> JT | E6: ='JT2025'!D7 -> 0 | F6: ='JT2025'!$E7 -> 0 | G6: ='JT2025'!F7 -> 0 | H6: ='JT2025'!G7 -> 0 | I6: ='JT2025'!H7 -> 0 | J6: ='JT2025'!I7 -> 0 | K6: ='JT2025'!J7 -> 0 | L6: ='JT2025'!K7 -> 0 | M6: ='JT2025'!L7 -> 0 | N6: ='JT2025'!N7 -> 0 | O6: 1 | P6: ='JT2025'!O7 -> 0 | Q6: ='JT2025'!M7 -> 0 | S6: ='JT2025'!$A$6 -> Tik hier uw naam | T6: ='JT2025'!$A$10 -> Tik hier uw naam | U6: ='JT2025'!$A$12 -> Tik hier uw nummer
A7: ='JT2025'!$A$3 -> PAPIER | B7: ='JT2025'!$A$8 -> Tik hier uw nummer | C7: ='JT2025'!$C$3 -> 2025 | D7: ='JT2025'!$B$3 -> JT | E7: ='JT2025'!D8 -> 0 | F7: ='JT2025'!$E8 -> 0 | G7: ='JT2025'!F8 -> 0 | H7: ='JT2025'!G8 -> 0 | I7: ='JT2025'!H8 -> 0 | J7: ='JT2025'!I8 -> 0 | K7: ='JT2025'!J8 -> 0 | L7: ='JT2025'!K8 -> 0 | M7: ='JT2025'!L8 -> 0 | N7: ='JT2025'!N8 -> 0 | O7: 1 | P7: ='JT2025'!O8 -> 0 | Q7: ='JT2025'!M8 -> 0 | S7: ='JT2025'!$A$6 -> Tik hier uw naam | T7: ='JT2025'!$A$10 -> Tik hier uw naam | U7: ='JT2025'!$A$12 -> Tik hier uw nummer
A8: ='JT2025'!$A$3 -> PAPIER | B8: ='JT2025'!$A$8 -> Tik hier uw nummer | C8: ='JT2025'!$C$3 -> 2025 | D8: ='JT2025'!$B$3 -> JT | E8: ='JT2025'!D9 -> 0 | F8: ='JT2025'!$E9 -> 0 | G8: ='JT2025'!F9 -> 0 | H8: ='JT2025'!G9 -> 0 | I8: ='JT2025'!H9 -> 0 | J8: ='JT2025'!I9 -> 0 | K8: ='JT2025'!J9 -> 0 | L8: ='JT2025'!K9 -> 0 | M8: ='JT2025'!L9 -> 0 | N8: ='JT2025'!N9 -> 0 | O8: 1 | P8: ='JT2025'!O9 -> 0 | Q8: ='JT2025'!M9 -> 0 | S8: ='JT2025'!$A$6 -> Tik hier uw naam | T8: ='JT2025'!$A$10 -> Tik hier uw naam | U8: ='JT2025'!$A$12 -> Tik hier uw nummer
A9: ='JT2025'!$A$3 -> PAPIER | B9: ='JT2025'!$A$8 -> Tik hier uw nummer | C9: ='JT2025'!$C$3 -> 2025 | D9: ='JT2025'!$B$3 -> JT | E9: ='JT2025'!D10 -> 0 | F9: ='JT2025'!$E10 -> 0 | G9: ='JT2025'!F10 -> 0 | H9: ='JT2025'!G10 -> 0 | I9: ='JT2025'!H10 -> 0 | J9: ='JT2025'!I10 -> 0 | K9: ='JT2025'!J10 -> 0 | L9: ='JT2025'!K10 -> 0 | M9: ='JT2025'!L10 -> 0 | N9: ='JT2025'!N10 -> 0 | O9: 1 | P9: ='JT2025'!O10 -> 0 | Q9: ='JT2025'!M10 -> 0 | S9: ='JT2025'!$A$6 -> Tik hier uw naam | T9: ='JT2025'!$A$10 -> Tik hier uw naam | U9: ='JT2025'!$A$12 -> Tik hier uw nummer
A10: ='JT2025'!$A$3 -> PAPIER | B10: ='JT2025'!$A$8 -> Tik hier uw nummer | C10: ='JT2025'!$C$3 -> 2025 | D10: ='JT2025'!$B$3 -> JT | E10: ='JT2025'!D11 -> 0 | F10: ='JT2025'!$E11 -> 0 | G10: ='JT2025'!F11 -> 0 | H10: ='JT2025'!G11 -> 0 | I10: ='JT2025'!H11 -> 0 | J10: ='JT2025'!I11 -> 0 | K10: ='JT2025'!J11 -> 0 | L10: ='JT2025'!K11 -> 0 | M10: ='JT2025'!L11 -> 0 | N10: ='JT2025'!N11 -> 0 | O10: 1 | P10: ='JT2025'!O11 -> 0 | Q10: ='JT2025'!M11 -> 0 | S10: ='JT2025'!$A$6 -> Tik hier uw naam | T10: ='JT2025'!$A$10 -> Tik hier uw naam | U10: ='JT2025'!$A$12 -> Tik hier uw nummer
A11: ='JT2025'!$A$3 -> PAPIER | B11: ='JT2025'!$A$8 -> Tik hier uw nummer | C11: ='JT2025'!$C$3 -> 2025 | D11: ='JT2025'!$B$3 -> JT | E11: ='JT2025'!D12 -> 0 | F11: ='JT2025'!$E12 -> 0 | G11: ='JT2025'!F12 -> 0 | H11: ='JT2025'!G12 -> 0 | I11: ='JT2025'!H12 -> 0 | J11: ='JT2025'!I12 -> 0 | K11: ='JT2025'!J12 -> 0 | L11: ='JT2025'!K12 -> 0 | M11: ='JT2025'!L12 -> 0 | N11: ='JT2025'!N12 -> 0 | O11: 1 | P11: ='JT2025'!O12 -> 0 | Q11: ='JT2025'!M12 -> 0 | S11: ='JT2025'!$A$6 -> Tik hier uw naam | T11: ='JT2025'!$A$10 -> Tik hier uw naam | U11: ='JT2025'!$A$12 -> Tik hier uw nummer
A12: ='JT2025'!$A$3 -> PAPIER | B12: ='JT2025'!$A$8 -> Tik hier uw nummer | C12: ='JT2025'!$C$3 -> 2025 | D12: ='JT2025'!$B$3 -> JT | E12: ='JT2025'!D13 -> 0 | F12: ='JT2025'!$E13 -> 0 | G12: ='JT2025'!F13 -> 0 | H12: ='JT2025'!G13 -> 0 | I12: ='JT2025'!H13 -> 0 | J12: ='JT2025'!I13 -> 0 | K12: ='JT2025'!J13 -> 0 | L12: ='JT2025'!K13 -> 0 | M12: ='JT2025'!L13 -> 0 | N12: ='JT2025'!N13 -> 0 | O12: 1 | P12: ='JT2025'!O13 -> 0 | Q12: ='JT2025'!M13 -> 0 | S12: ='JT2025'!$A$6 -> Tik hier uw naam | T12: ='JT2025'!$A$10 -> Tik hier uw naam | U12: ='JT2025'!$A$12 -> Tik hier uw nummer
A13: ='JT2025'!$A$3 -> PAPIER | B13: ='JT2025'!$A$8 -> Tik hier uw nummer | C13: ='JT2025'!$C$3 -> 2025 | D13: ='JT2025'!$B$3 -> JT | E13: ='JT2025'!D14 -> 0 | F13: ='JT2025'!$E14 -> 0 | G13: ='JT2025'!F14 -> 0 | H13: ='JT2025'!G14 -> 0 | I13: ='JT2025'!H14 -> 0 | J13: ='JT2025'!I14 -> 0 | K13: ='JT2025'!J14 -> 0 | L13: ='JT2025'!K14 -> 0 | M13: ='JT2025'!L14 -> 0 | N13: ='JT2025'!N14 -> 0 | O13: 1 | P13: ='JT2025'!O14 -> 0 | Q13: ='JT2025'!M14 -> 0 | S13: ='JT2025'!$A$6 -> Tik hier uw naam | T13: ='JT2025'!$A$10 -> Tik hier uw naam | U13: ='JT2025'!$A$12 -> Tik hier uw nummer
... A51: ='JT2025'!$A$3 -> PAPIER | B51: ='JT2025'!$A$8 -> Tik hier uw nummer | C51: ='JT2025'!$C$3 -> 2025 | D51: ='JT2025'!$B$3 -> JT | E51: ='JT2025'!D52 -> 0 | F51: ='JT2025'!$E52 -> 0 | G51: ='JT2025'!F52 -> 0 | H51: ='JT2025'!G52 -> 0 | I51: ='JT2025'!H52 -> 0 | J51: ='JT2025'!I52 -> 0 | K51: ='JT2025'!J52 -> 0 | L51: ='JT2025'!K52 -> 0 | M51: ='JT2025'!L52 -> 0 | N51: ='JT2025'!N52 -> 0 | O51: 1 | P51: ='JT2025'!O52 -> 0 | Q51: ='JT2025'!M52 -> 0 | S51: ='JT2025'!$A$6 -> Tik hier uw naam | T51: ='JT2025'!$A$10 -> Tik hier uw naam | U51: ='JT2025'!$A$12 -> Tik hier uw nummer
